BEGIN:VCALENDAR
VERSION:2.0
PRODID:-//ATAC Apprenticeship Community - ECPv6.15.20//NONSGML v1.0//EN
CALSCALE:GREGORIAN
METHOD:PUBLISH
X-WR-CALNAME:ATAC Apprenticeship Community
X-ORIGINAL-URL:https://advancedtherapiesapprenticeships.co.uk
X-WR-CALDESC:Events for ATAC Apprenticeship Community
REFRESH-INTERVAL;VALUE=DURATION:PT1H
X-Robots-Tag:noindex
X-PUBLISHED-TTL:PT1H
BEGIN:VTIMEZONE
TZID:UTC
BEGIN:STANDARD
TZOFFSETFROM:+0000
TZOFFSETTO:+0000
TZNAME:UTC
DTSTART:20250101T000000
END:STANDARD
END:VTIMEZONE
BEGIN:VEVENT
DTSTART;TZID=UTC:20260514T120000
DTEND;TZID=UTC:20260514T130000
DTSTAMP:20260423T103400
CREATED:20260113T092131Z
LAST-MODIFIED:20260113T092131Z
UID:7672-1778760000-1778763600@advancedtherapiesapprenticeships.co.uk
SUMMARY:ATAC: Lunch and Learn - Dr Remy Martin - Director of Business Development @ CGTC
DESCRIPTION:  \n\n\n\n\nDr Remy Martin – Director of Business Development\, Cell & Gene Therapy Catapult\n\n\nRemy is the Director of Business Development at the Cell and Gene Therapy Catapult. Remy is a biochemist by background\, with over 15 years’ experience in life sciences\, including 8 years in commercial roles in the Cell & Gene Therapy sector. \nA graduate of the ATAC L7 Senior Leaders Programme (2020–2023)\, he is passionate about innovative technologies\, enabling effective industry partnerships\, and supporting the commercial translation of good science into therapies that can be delivered at scale. \nRemy is an active contributor to UK sector strategy through the BIA’s Cell & Gene Therapy Advisory Committee (CGTAC) and Manufacturing Advisory Committee (MAC)\, and has a strong focus on developing people\, processes and collaborations that support the advancement of the CGT sector.
URL:https://advancedtherapiesapprenticeships.co.uk/event/atac-lunch-and-learn-remy-martin-director-of-business-developement-cgtc-2/
CATEGORIES:Enrichment
ATTACH;FMTTYPE=image/png:https://advancedtherapiesapprenticeships.co.uk/wp-content/uploads/2022/01/ATAC-Logo-White-background-700x350-1.png
END:VEVENT
END:VCALENDAR